BEGIN:VCALENDAR
VERSION:2.0
PRODID:spatie/icalendar-generator
DESCRIPTION:Veranstaltungen von Rollerfreunde Dresden
X-WR-CALDESC:Veranstaltungen von Rollerfreunde Dresden
REFRESH-INTERVAL;VALUE=DURATION:PT1440M
X-PUBLISHED-TTL:PT1440M
BEGIN:VTIMEZONE
TZID:Etc/GMT+0
BEGIN:STANDARD
DTSTART:20250203T100000Z
TZOFFSETFROM:+0000
TZOFFSETTO:+0000
END:STANDARD
END:VTIMEZONE
BEGIN:VTIMEZONE
TZID:UTC
BEGIN:STANDARD
DTSTART:20250725T110055Z
TZOFFSETFROM:+0000
TZOFFSETTO:+0000
END:STANDARD
END:VTIMEZONE
BEGIN:VEVENT
UID:71-43
DTSTAMP:20260421T110055Z
SUMMARY:Jahresabschlussfahrt 2025
LOCATION:Esso Station Bischofswerda Forsthausstraße 1  Bischofswerda  0187
 7
ORGANIZER;CN=gentlemandd:MAILTO:kerber.frank@gmail.com
DTSTART;TZID=Etc/GMT+0:20251031T100000
DTEND;TZID=Etc/GMT+0:20251031T180000
X-ALT-DESC;FMTTYPE=TEXT/HTML:wie jedes Jahr Tradition gehts auf zum Bikertr
 effen in der Forest Village Ranch in Daubitz Wir treffen uns 10:00 Uhr an 
 der Esso in Bischofswerda\, bzw. wir fahren 10:00 Uhr von da los. Gäste s
 ind willkommen
CATEGORIES:fremde Veranstaltung,  Ausfahrt
URL;VALUE=URI:https://rollerfreunde-dresden.de/mc-events/jahresabschlussfah
 rt-2025
METHOD:PUBLISH
END:VEVENT
END:VCALENDAR