BEGIN:VCALENDAR
VERSION:2.0
PRODID:spatie/icalendar-generator
DESCRIPTION:Veranstaltungen von Rollerfreunde Dresden
X-WR-CALDESC:Veranstaltungen von Rollerfreunde Dresden
REFRESH-INTERVAL;VALUE=DURATION:PT1440M
X-PUBLISHED-TTL:PT1440M
BEGIN:VTIMEZONE
TZID:Etc/GMT+0
BEGIN:STANDARD
DTSTART:20241211T080000Z
TZOFFSETFROM:+0000
TZOFFSETTO:+0000
END:STANDARD
END:VTIMEZONE
BEGIN:VTIMEZONE
TZID:UTC
BEGIN:STANDARD
DTSTART:20250725T160320Z
TZOFFSETFROM:+0000
TZOFFSETTO:+0000
END:STANDARD
END:VTIMEZONE
BEGIN:VEVENT
UID:69-41
DTSTAMP:20260421T160320Z
SUMMARY:Sonntag 07.09.2025 - DDR-Museum Schwepnitz
LOCATION:McDonalds Gompitz Gompitzer Höhe 3  Dresden  01156
ORGANIZER;CN=gentlemandd:MAILTO:kerber.frank@gmail.com
DTSTART;TZID=Etc/GMT+0:20250907T080000
DTEND;TZID=Etc/GMT+0:20250907T180000
X-ALT-DESC;FMTTYPE=TEXT/HTML:Museumstag mit Hausmarkt am 07.09.2025 in Schw
 epnitz 07.09.2025 Beginn: 10 Uhr Der Eintritt ist frei. Veranstalter: DDR-
 Museum\, Ortrander Str. 25\, 01936 Schwepnitz Da soll es hin gehen. Wir wo
 llten uns am 07.09.2025 an unserem Treffpunkt McDonalds in Gompitz treffen
 . Abfahrt von dort soll 08:00 Uhr sein. Gäste sind herzlich Willkommen!
CATEGORIES:Ausfahrt
URL;VALUE=URI:https://rollerfreunde-dresden.de/mc-events/sonntag-07-09-2025
 -ddr-museum-schwepnitz
METHOD:PUBLISH
END:VEVENT
END:VCALENDAR