BEGIN:VCALENDAR
VERSION:2.0
PRODID:spatie/icalendar-generator
DESCRIPTION:Veranstaltungen von Rollerfreunde Dresden
X-WR-CALDESC:Veranstaltungen von Rollerfreunde Dresden
REFRESH-INTERVAL;VALUE=DURATION:PT1440M
X-PUBLISHED-TTL:PT1440M
BEGIN:VTIMEZONE
TZID:Etc/GMT+0
BEGIN:STANDARD
DTSTART:20241224T084500Z
TZOFFSETFROM:+0000
TZOFFSETTO:+0000
END:STANDARD
END:VTIMEZONE
BEGIN:VTIMEZONE
TZID:UTC
BEGIN:STANDARD
DTSTART:20250725T130152Z
TZOFFSETFROM:+0000
TZOFFSETTO:+0000
END:STANDARD
END:VTIMEZONE
BEGIN:VEVENT
UID:70-42
DTSTAMP:20260421T130152Z
SUMMARY:Erzgebirgsfahrt 2025
LOCATION:Parkplatz an der Heinzebank An der Heinzebank 2  Wolkenstein  0942
 9
ORGANIZER;CN=gentlemandd:MAILTO:kerber.frank@gmail.com
DTSTART;TZID=Etc/GMT+0:20250920T084500
DTEND;TZID=Etc/GMT+0:20250920T170000
X-ALT-DESC;FMTTYPE=TEXT/HTML:Die nächste Erzgebirgsfahrt ist fertig und st
 eht. Treffpunkt wie immer 8.45 Uhr Heinzebank\, Abfahrt 9.00 Uhr. Wir fahr
 en dieses Jahr oben auf dem Erzgebirgskamm\, von Ost nach West. Jetzt grob
  die Tour. Von der Heinzebank bis Olbernhau\, auf deutscher Seite\, dort 
 über die Grenze nach CZ. Von St.Katharinaberg\, Belebor\, Kalek\, F1 Tank
 stelle Nähe Grenzübergang Reizenhain\,&amp;hellip\;
CATEGORIES:Ausfahrt
URL;VALUE=URI:https://rollerfreunde-dresden.de/mc-events/erzgebirgsfahrt-20
 25
METHOD:PUBLISH
END:VEVENT
END:VCALENDAR