BEGIN:VCALENDAR
VERSION:2.0
PRODID:spatie/icalendar-generator
DESCRIPTION:Veranstaltungen von Rollerfreunde Dresden
X-WR-CALDESC:Veranstaltungen von Rollerfreunde Dresden
REFRESH-INTERVAL;VALUE=DURATION:PT1440M
X-PUBLISHED-TTL:PT1440M
BEGIN:VTIMEZONE
TZID:Etc/GMT+0
BEGIN:STANDARD
DTSTART:20240901T090000Z
TZOFFSETFROM:+0000
TZOFFSETTO:+0000
END:STANDARD
END:VTIMEZONE
BEGIN:VTIMEZONE
TZID:UTC
BEGIN:STANDARD
DTSTART:20250725T160525Z
TZOFFSETFROM:+0000
TZOFFSETTO:+0000
END:STANDARD
END:VTIMEZONE
BEGIN:VEVENT
UID:56-38
DTSTAMP:20260421T160525Z
SUMMARY:gentle will fahren
LOCATION:Stammlokal Zum Knipser Dohnaer Str. 81B  Dresden  01219
ORGANIZER;CN=gentlemandd:MAILTO:kerber.frank@gmail.com
DTSTART;TZID=Etc/GMT+0:20250529T090000
DTEND;TZID=Etc/GMT+0:20250529T180000
X-ALT-DESC;FMTTYPE=TEXT/HTML:Also Männertag ohne Moppedrunde ist irgendwie
  nicht drin. Also ich wäre für eine Runde zu haben. Abfahrt ca. 9:00 ode
 r später\, wo genau hängt vom Ziel bzw von den Mitfahrern ab. Das aktual
 isiere ich hier noch. Anregungen gerne hier
CATEGORIES:Ausfahrt
URL;VALUE=URI:https://rollerfreunde-dresden.de/mc-events/gentle-will-fahren
METHOD:PUBLISH
END:VEVENT
END:VCALENDAR