BEGIN:VCALENDAR
VERSION:2.0
PRODID:spatie/icalendar-generator
DESCRIPTION:Veranstaltungen von Rollerfreunde Dresden
X-WR-CALDESC:Veranstaltungen von Rollerfreunde Dresden
REFRESH-INTERVAL;VALUE=DURATION:PT1440M
X-PUBLISHED-TTL:PT1440M
BEGIN:VTIMEZONE
TZID:Etc/GMT+0
BEGIN:STANDARD
DTSTART:20240618T090000Z
TZOFFSETFROM:+0000
TZOFFSETTO:+0000
END:STANDARD
END:VTIMEZONE
BEGIN:VTIMEZONE
TZID:UTC
BEGIN:STANDARD
DTSTART:20250725T173958Z
TZOFFSETFROM:+0000
TZOFFSETTO:+0000
END:STANDARD
END:VTIMEZONE
BEGIN:VEVENT
UID:51-34
DTSTAMP:20260421T173958Z
SUMMARY:Große Saisoneröffnung 2025 Motorsporthaus Arnold
LOCATION:Motorsporthaus Anold Sayda Dresdner Straße 88  Sayda Sachsen 0961
 9
ORGANIZER;CN=gentlemandd:MAILTO:kerber.frank@gmail.com
DTSTART;TZID=Etc/GMT+0:20250315T090000
DTEND;TZID=Etc/GMT+0:20250315T170000
X-ALT-DESC;FMTTYPE=TEXT/HTML:Große Saisoneröffnung Gewinne ein Motorrad D
 einer Wahl für ein Wochenende und genieße einen fesselnden Reisevortrag:
  972 Pannen: Auf dem Landweg nach New York. Ladenöffnungszeit von 9-17 Uh
 r Indoor biken – Probiere auf unserem Indoor Parkour mal die kleinste H
 onda aus. Den EM1 E. Drehe vor der Saison ein paar Runden in der trockenen
  Halle. Helme haben&amp;hellip\;
CATEGORIES:fremde Veranstaltung
URL;VALUE=URI:https://rollerfreunde-dresden.de/mc-events/grosse-saisoneroef
 fnung-2025-motorsporthaus-arnold
METHOD:PUBLISH
END:VEVENT
END:VCALENDAR